BEGIN:VCALENDAR
VERSION:2.0
PRODID:-//Volt Europa//Events//EN
CALSCALE:GREGORIAN
METHOD:PUBLISH
BEGIN:VEVENT
UID:landelijke-verkiezingsavond-in-utrecht-1700681400@voltnederland.org
DTSTAMP:20260423T114441Z
DTSTART;TZID=Europe/Amsterdam:20231122T203000
DTEND;TZID=Europe/Amsterdam:20231122T234500
SUMMARY:Landelijke verkiezingsavond in Utrecht
DESCRIPTION:D﻿e verkiezingen vinden plaats op 22 november van dit jaar. E
 r zijn door het hele land Volters actief om de kiezers te overtuigen van on
 s Europese verhaal van optimisme. Met als doel de boodschap uitdragen: Toek
 omst\, NU! De uitslag van deze verkiezingen willen we daarom met zoveel mog
 elijk Volters volgen in Utrecht. De kaartjes zijn helaas uitverkocht.
LOCATION:YouTube livestream
URL:https://voltnederland.org/agenda/landelijke-verkiezingsavond-in-utrecht
END:VEVENT
END:VCALENDAR
