BEGIN:VCALENDAR
VERSION:2.0
PRODID:-//Volt Europa//Events//EN
CALSCALE:GREGORIAN
METHOD:PUBLISH
BEGIN:VEVENT
UID:landelijke-verkiezingsavond-2025-1761760800@voltnederland.org
DTSTAMP:20260423T114248Z
DTSTART;TZID=Europe/Amsterdam:20251029T190000
DTEND;TZID=Europe/Amsterdam:20251030T010000
SUMMARY:Landelijke verkiezingsavond 2025
DESCRIPTION:Vanaf 19:00 ben je van harte welkom bij de Q-factory in Amsterd
 am. De locatie is op loopafstand van Amsterdam Muiderpoort. Het feestje duu
 rt tot 01:00 maar daarna kan je natuurlijk nog met je mede-Volters de Amste
 rdamse nacht opzoeken. Er zullen hapjes worden geserveerd gedurende de avon
 d en drankjes kan je bij de bar afrekenen. Er is een onbewaakte garderobe a
 anwezig. Belangrijk: je ticket is persoonlijk\, als je onder een andere naa
 m een ticket hebt\, kan het zijn dat je niet binnenkomt. Het kan
LOCATION:Q-Factory Amsterdam
URL:https://voltnederland.org/agenda/landelijke-verkiezingsavond-2025
END:VEVENT
END:VCALENDAR
