BEGIN:VCALENDAR
VERSION:2.0
PRODID:-//Volt Europa//Events//EN
CALSCALE:GREGORIAN
METHOD:PUBLISH
BEGIN:VEVENT
UID:landelijke-opschoondag-vuilprikken-1711184400@voltnederland.org
DTSTAMP:20260423T102219Z
DTSTART;TZID=Europe/Amsterdam:20240323T100000
DTEND;TZID=Europe/Amsterdam:20240323T235900
SUMMARY:Landelijke opschoondag: Vuilprikken
DESCRIPTION:Op 23 maart is de landelijke opschoondag\, dan gaan we in Ensch
 ede en Hengelo aan de slag. In Enschede verzamelen we op de Westerstraat\, 
 en in Hengelo bij de Madoerastraat 39. Wij zorgen voor wat basisbenodigdhed
 en. We beginnen om 10:00 uur en sluiten om 12:00 uur samen af met koffie en
  thee. Help je ook mee? Maak de stad een beetje schoner! Vragen kun je mail
 en naar  twente@voltnederland.org
LOCATION:Westerstraat Enschede en Madoerastraat Hengelo
URL:https://voltnederland.org/agenda/landelijke-opschoondag-vuilprikken
END:VEVENT
END:VCALENDAR
