BEGIN:VCALENDAR
VERSION:2.0
PRODID:-//Volt Europa//Events//EN
CALSCALE:GREGORIAN
METHOD:PUBLISH
BEGIN:VEVENT
UID:landelijke-campagneaftrap-1760169600@voltnederland.org
DTSTAMP:20260423T102046Z
DTSTART;TZID=Europe/Amsterdam:20251011T100000
DTEND;TZID=Europe/Amsterdam:20251011T180000
SUMMARY:Landelijke campagneaftrap
DESCRIPTION:Aanstaande zaterdag zullen we in meer dan 20 steden staan om he
 el Nederland paars te laten kleuren. Kom flyeren in je eigen stad (of een s
 tad bij jou in de buurt) en help mee met onze campagne! Met zoveel mogelijk
  enthousiaste Volters willen we laten zien dat we staan voor een nieuwe gen
 eratie in de politiek\, met nieuwe ideeën en oplossingen voor de uitdaging
 en van vandaag en morgen. Dit is hét moment om zichtbaar te zijn\, in gesp
 rek te gaan met mensen en onze boodschap te delen: bouwen aan een 
LOCATION:Nederland
URL:https://voltnederland.org/agenda/landelijke-campagneaftrap
END:VEVENT
END:VCALENDAR
