BEGIN:VCALENDAR
VERSION:2.0
PRODID:-//Volt Europa//Events//EN
CALSCALE:GREGORIAN
METHOD:PUBLISH
BEGIN:VEVENT
UID:landelijk-congres-1695456000@voltnederland.org
DTSTAMP:20260423T161146Z
DTSTART;TZID=Europe/Amsterdam:20230923T100000
DTEND;TZID=Europe/Amsterdam:20230923T170000
SUMMARY:Landelijk congres
DESCRIPTION:English version below De Tweede Kamerverkiezingen op 22 novembe
 r komen dichterbij. Om tot een succesvolle campagne te komen is de inbreng 
 van onze leden onmisbaar. Daarom nodigen we je van harte uit voor het congr
 es van Volt Nederland op zaterdag 23 september op het centraal station in D
 en Haag bij ZZIIN. Agenda Het congres begint om 10:00 uur\, met inloop vana
 f 09:30 uur. In de week voor het congres ontvang je de definitieve agenda. 
 De  voorlopige agenda vind je hier . Het wordt een belangrijk c
LOCATION:ZZIIN\, Den Haag
URL:https://voltnederland.org/agenda/landelijk-congres
END:VEVENT
END:VCALENDAR
