BEGIN:VCALENDAR
VERSION:2.0
PRODID:-//Volt Europa//Events//EN
CALSCALE:GREGORIAN
METHOD:PUBLISH
BEGIN:VEVENT
UID:landelijk-congres-2024-1705739400@voltnederland.org
DTSTAMP:20260423T142241Z
DTSTART;TZID=Europe/Amsterdam:20240120T093000
DTEND;TZID=Europe/Amsterdam:20240120T163000
SUMMARY:Landelijk congres
DESCRIPTION:Het congres is helaas uitverkocht\, het is voor alle leden live
  te volgen op ons  YouTube Kanaal . Je kan je aanmelden voor de wachtrij op
   Eventbrite . Tijdens dit landelijke congres blikken we terug op de Tweede
  Kamerverkiezingen van 22 november. Ook kijken we vooruit naar wat het nieu
 we jaar ons te bieden heeft: de Europese verkiezingen. Bekijk hier  alle in
 formatie over het congres .
LOCATION:Domstad\, Koningsbergerstraat 9\, Utrecht
URL:https://voltnederland.org/agenda/landelijk-congres-2024
END:VEVENT
END:VCALENDAR
