BEGIN:VCALENDAR
VERSION:2.0
PRODID:-//Volt Europa//Events//EN
CALSCALE:GREGORIAN
METHOD:PUBLISH
BEGIN:VEVENT
UID:klimaatmars-oktober-2025-1761478200@voltnederland.org
DTSTAMP:20260423T102053Z
DTSTART;TZID=Europe/Amsterdam:20251026T123000
DTEND;TZID=Europe/Amsterdam:20251026T160000
SUMMARY:Klimaatmars
DESCRIPTION:De verkiezingen komen eraan – laat je stem horen voor klimaat
 rechtvaardigheid! Terwijl grote vervuilers miljardenwinsten binnenhalen\, v
 erliezen mensen wereldwijd hun huizen en oogst door de klimaatcrisis. Dat i
 s oneerlijk en onhoudbaar. Dit moet én kán anders. Daarom komen we op 26 
 oktober in Den Haag massaal samen voor een leefbare toekomst – voor onze 
 kinderen\, voor elkaar\, voor de planeet. 👉 Sluit je aan bij Volt! We ve
 rzamelen om 12.30 uur bij het partijbureau. Trek iets (Volt) paars aan en 
LOCATION:Partijbureau\, Koninginnegracht 7\, Den Haag
URL:https://voltnederland.org/agenda/klimaatmars-oktober-2025
END:VEVENT
END:VCALENDAR
