BEGIN:VCALENDAR
VERSION:2.0
PRODID:-//Volt Europa//Events//EN
CALSCALE:GREGORIAN
METHOD:PUBLISH
BEGIN:VEVENT
UID:kickoff-grv-volt-arnhem-1746883800@voltnederland.org
DTSTAMP:20260423T113842Z
DTSTART;TZID=Europe/Amsterdam:20250510T153000
DTEND;TZID=Europe/Amsterdam:20250510T180000
SUMMARY:Kickoff GRV Volt Arnhem
DESCRIPTION:Op 18 maart 2026 zijn er gemeenteraadsverkiezingen. Volt Arnhem
  is inmiddels gestart met de voorbereidingen\, zodat wij in maart met een m
 ooie lijst en programma mee kunnen doen. Als start voor deze periode\, orga
 niseren wij de kickoff met verschillende interessante sprekers\, waaronder 
 de huidige wethouder en raadsleden. Hiernaast zullen er kandidaten voor co-
 voorzitter van Volt Nederland aanwezig zijn om jou te leren kennen.  Wil ji
 j meer weten over ons werk in de raad? Ben je nieuwsgierig naar o
LOCATION:De Nieuwe Coehoorn (Nico)\, Coehoornstraat 17\, 6811 LA Arnhem
URL:https://voltnederland.org/agenda/kickoff-grv-volt-arnhem
END:VEVENT
END:VCALENDAR
