BEGIN:VCALENDAR
VERSION:2.0
PRODID:-//Volt Europa//Events//EN
CALSCALE:GREGORIAN
METHOD:PUBLISH
BEGIN:VEVENT
UID:kennismaking-democratie-1756143000@voltnederland.org
DTSTAMP:20260423T113840Z
DTSTART;TZID=Europe/Amsterdam:20250825T193000
DTEND;TZID=Europe/Amsterdam:20250825T210000
SUMMARY:Kennismaking democratie met kandidaten
DESCRIPTION:Als Nederlandse groep binnen de Europese themacommunity Dreamco
 m organiseren we graag een online kennismaking met onze kandidaten voor de 
 Tweede Kamer verkiezingen. De democratie is een belangrijk thema voor Volt 
 en dus ook voor de komende campagne. In deze bijeenkomst bieden wij kandida
 ten de gelegenheid om hun democratische visie en ambities te schetsen en om
  in gesprek te komen met leden. Centrale vraag:  hoe kan Volt zich concreet
  en geloofwaardig positioneren als radicaal democratisch verni
LOCATION:Online
URL:https://voltnederland.org/agenda/kennismaking-democratie
END:VEVENT
END:VCALENDAR
