BEGIN:VCALENDAR
VERSION:2.0
PRODID:-//Volt Europa//Events//EN
CALSCALE:GREGORIAN
METHOD:PUBLISH
BEGIN:VEVENT
UID:kennismaking-commissiekandidaten-volt-nederland-1776879000@voltnederlan
 d.org
DTSTAMP:20260421T094039Z
DTSTART;TZID=Europe/Amsterdam:20260422T193000
DTEND;TZID=Europe/Amsterdam:20260422T200000
SUMMARY:Kennismaking commissiekandidaten Volt Nederland
DESCRIPTION:Maak kennis met de kandidaten voor de commissies van Volt Neder
 land Weet jij al wie de kandidaten zijn voor de verschillende commissies va
 n Volt Nederland? Tijdens deze introductieavond stellen de kandidaten voor 
 de commissie Integriteit\, de commissie Geschil en Beroep en de Kandidatenc
 ommissie zich aan je voor. Zo kun jij je goed voorbereiden op het congres v
 an 9 mei en een weloverwogen stem uitbrengen. De aftrap van de interne camp
 agne vindt plaats op: 📅 Woensdag 22 april 2026 🕗 19.30 uur 📍 on
LOCATION:Partijbureau\, Koninginnegracht 7\, Den Haag
URL:https://voltnederland.org/agenda/kennismaking-commissiekandidaten-volt-
 nederland
END:VEVENT
END:VCALENDAR
