BEGIN:VCALENDAR
VERSION:2.0
PRODID:-//Volt Europa//Events//EN
CALSCALE:GREGORIAN
METHOD:PUBLISH
BEGIN:VEVENT
UID:kandidaten-kascommissie-stellen-zich-voor-1704738600@voltnederland.org
DTSTAMP:20260423T114340Z
DTSTART;TZID=Europe/Amsterdam:20240108T193000
DTEND;TZID=Europe/Amsterdam:20240108T203000
SUMMARY:Kandidaten kascommissie stellen zich voor
DESCRIPTION:We hebben twee kandidaten voor de kascommissie 2024 die we graa
 g aan je voorstellen zodat jij goed bent voorbereid voor de stemming op het
  Volt-congres van 20 januari 2024. De avond is volledig online\, je kunt de
  bijeenkomst bijwonen via  Zoom .
LOCATION:Online
URL:https://voltnederland.org/agenda/kandidaten-kascommissie-stellen-zich-v
 oor
END:VEVENT
END:VCALENDAR
