BEGIN:VCALENDAR
VERSION:2.0
PRODID:-//Volt Europa//Events//EN
CALSCALE:GREGORIAN
METHOD:PUBLISH
BEGIN:VEVENT
UID:kandidaten-europees-parlement-stellen-zich-voor-1704823200@voltnederlan
 d.org
DTSTAMP:20260423T114410Z
DTSTART;TZID=Europe/Amsterdam:20240109T190000
DTEND;TZID=Europe/Amsterdam:20240109T210000
SUMMARY:Kandidaten Europees Parlement stellen zich voor
DESCRIPTION:We stellen je graag voor aan alle kandidaten voor het Europees 
 Parlement! Het bestuur heeft een advieslijst opgesteld voor de kandidaten v
 oor het Europees Parlement. Als je fysiek op het partijbureau aanwezig wilt
  zijn op 9 januari\, dan kun je een persoonlijke plek reserveren via  Event
 brite . Er is beperkt plek\; reserveer dus alleen een kaartje als je echt k
 unt komen. Voor de livestream van 9 januari\, klik  hier .
LOCATION:Online en Koninginnegracht 7\, Den Haag
URL:https://voltnederland.org/agenda/kandidaten-europees-parlement-stellen-
 zich-voor
END:VEVENT
END:VCALENDAR
