BEGIN:VCALENDAR
VERSION:2.0
PRODID:-//Volt Europa//Events//EN
CALSCALE:GREGORIAN
METHOD:PUBLISH
BEGIN:VEVENT
UID:kandidaten-europees-parlement-stellen-zich-voor-2-1704909600@voltnederl
 and.org
DTSTAMP:20260423T114409Z
DTSTART;TZID=Europe/Amsterdam:20240110T190000
DTEND;TZID=Europe/Amsterdam:20240110T210000
SUMMARY:Kandidaten Europees Parlement stellen zich voor (2)
DESCRIPTION:We stellen je graag voor aan alle kandidaten voor het Europees 
 Parlement! Het bestuur heeft een advies opgesteld voor de kandidaten voor h
 et Europees Parlement.  Als je fysiek op het partijbureau aanwezig wilt zi
 jn op 10 januari\, dan kun je een persoonlijke plek reserveren via  Eventbr
 ite . Er is beperkt plek\; reserveer dus alleen een kaartje als je echt kun
 t komen. Voor de livestream van 10 januari\, klik  hier . Bekijk alle infor
 matie over de kandidaten-introductieperiode.
LOCATION:Online en Koninginnegracht 7\, Den Haag
URL:https://voltnederland.org/agenda/kandidaten-europees-parlement-stellen-
 zich-voor-2
END:VEVENT
END:VCALENDAR
