BEGIN:VCALENDAR
VERSION:2.0
PRODID:-//Volt Europa//Events//EN
CALSCALE:GREGORIAN
METHOD:PUBLISH
BEGIN:VEVENT
UID:journalistiek-over-grenzen-1711560600@voltnederland.org
DTSTAMP:20260423T102046Z
DTSTART;TZID=Europe/Amsterdam:20240327T183000
DTEND;TZID=Europe/Amsterdam:20240327T213000
SUMMARY:Journalistiek over Grenzen
DESCRIPTION:Wanneer: Woensdag 27 maart\, 18:30 inloop\, 19:00 - 21:30 Waar:
  Gronausestraat 1258\, 7534 AV Enschede Wat: Hoe reizen verhalen over grenz
 en? 3 keynotes en een discussie over journalistiek over landsgrenzen. Na ee
 n aftrap door journalisten willen we u graag betrekken bij een gesprek over
  journalistiek in een grensregio. We duiken in het medialandschap aan beide
  kanten van de grens\, of wat er al geprobeerd is. Daarna kijken we met elk
 aar naar mogelijkheden voor samenwerking in de toekomst.  Wij zorg
LOCATION:Gronausestraat 1258\, 7534 AV Enschede
URL:https://voltnederland.org/overijssel/agenda/journalistiek-over-grenzen
END:VEVENT
END:VCALENDAR
