BEGIN:VCALENDAR
VERSION:2.0
PRODID:-//Volt Europa//Events//EN
CALSCALE:GREGORIAN
METHOD:PUBLISH
BEGIN:VEVENT
UID:introductie-van-de-workshop-maatschappelijke-impact-maken-vanuit-volt-1
 737651600@voltnederland.org
DTSTAMP:20260423T114107Z
DTSTART;TZID=Europe/Amsterdam:20250123T180000
DTEND;TZID=Europe/Amsterdam:20250123T190000
SUMMARY:Introductie van de Workshop: "Maatschappelijke Impact maken vanuit 
 Volt"
DESCRIPTION:Tijdens deze online bijeenkomst van  Connect  geven we een intr
 oductie van de workshop "Maatschappelijke Impact maken vanuit Volt".  Deze 
 workshop benadrukt hoe Volt politiek herdefinieert als een middel om het ge
 meenschappelijke leven te organiseren. Volt ziet politiek niet als een stri
 jd om macht\, maar als een manier om duurzame verbindingen te creëren tuss
 en mensen\, gemeenschappen en systemen. Dit sluit aan bij de oorspronkelijk
 e betekenis van politiek: het omgaan met kwesties die onze gemeen
LOCATION:https://meet.google.com/quv-tgde-abp
URL:https://voltnederland.org/agenda/introductie-van-de-workshop-maatschapp
 elijke-impact-maken-vanuit-volt
END:VEVENT
END:VCALENDAR
