BEGIN:VCALENDAR
VERSION:2.0
PRODID:-//Volt Europa//Events//EN
CALSCALE:GREGORIAN
METHOD:PUBLISH
BEGIN:VEVENT
UID:introductie-dagen-wur-volt-wageningen-1724223600@voltnederland.org
DTSTAMP:20260423T113949Z
DTSTART;TZID=Europe/Amsterdam:20240821T090000
DTEND;TZID=Europe/Amsterdam:20240821T160000
SUMMARY:Introductie dagen WUR Volt Wageningen
DESCRIPTION:Denk Europees\, doe lokaal met Marieke Koekoek en Volt Ukraine 
 te gast. Het zijn de introductie dagen op de WUR op de campus. Stand 112. M
 eer informatie?  henk.vandonselaar@volteuropa.org
LOCATION:Wageningen Universiteit
URL:https://voltnederland.org/agenda/introductie-dagen-wur-volt-wageningen
END:VEVENT
END:VCALENDAR
