BEGIN:VCALENDAR
VERSION:2.0
PRODID:-//Volt Europa//Events//EN
CALSCALE:GREGORIAN
METHOD:PUBLISH
BEGIN:VEVENT
UID:intern-campagne-evenement-covoorzitter-1744909200@voltnederland.org
DTSTAMP:20260423T102131Z
DTSTART;TZID=Europe/Amsterdam:20250417T190000
DTEND;TZID=Europe/Amsterdam:20250417T213000
SUMMARY:Intern campagne-evenement covoorzitter
DESCRIPTION:Op 17 april organiseren we een uitgebreide kennismakingsavond. 
 Deze avond zal tevens het startpunt zijn voor de interne campagne van de ka
 ndidaten voor het covoorzitterschap van het bestuur van Volt Nederland. De 
 avond vindt plaats van 19.00 tot 21.30 uur op het Volt-partijbureau aan de 
 Koninginnegracht 7 in Den Haag. Tijdens deze avond krijg je de kans om de k
 andidaten persoonlijk te ontmoeten\, lichten ze hun visie toe en is er de m
 ogelijkheid om vragen te stellen. Het is een unieke gelegenheid
LOCATION:Online of Volt Partijbureau\, Koninginnegracht 7\, Den Haag
URL:https://voltnederland.org/agenda/intern-campagne-evenement-covoorzitter
END:VEVENT
END:VCALENDAR
