BEGIN:VCALENDAR
VERSION:2.0
PRODID:-//Volt Europa//Events//EN
CALSCALE:GREGORIAN
METHOD:PUBLISH
BEGIN:VEVENT
UID:intern-campagne-evenement-commissieleden-1744822800@voltnederland.org
DTSTAMP:20260423T144252Z
DTSTART;TZID=Europe/Amsterdam:20250416T190000
DTEND;TZID=Europe/Amsterdam:20250416T203000
SUMMARY:Intern campagne-evenement commissieleden
DESCRIPTION:Op 16 april organiseren we een kennismakingsavond met gegadigde
 n voor de kandidatencommissie\, integriteitscommissie en de commissie Gesch
 il en Beroep. De avond vindt online plaats\, waarbij we zorgen voor een int
 eractief programma met ruimte voor dialoog en discussie. Zo zullen de kandi
 daten hun visie en motivatie toelichten en krijg je de mogelijkheid vragen 
 aan hen te stellen. Dit is dé kans om inzicht te krijgen in hun achtergron
 d en kwaliteiten\, zodat je op het landelijk congres van 17 mei ee
LOCATION:Online of Volt Partijbureau\, Koninginnegracht 7\, Den Haag
URL:https://voltnederland.org/agenda/intern-campagne-evenement-commissieled
 en
END:VEVENT
END:VCALENDAR
