BEGIN:VCALENDAR
VERSION:2.0
PRODID:-//Volt Europa//Events//EN
CALSCALE:GREGORIAN
METHOD:PUBLISH
BEGIN:VEVENT
UID:inloop-nieuwe-leden-en-belangstellenden-1698339600@voltnederland.org
DTSTAMP:20260423T113924Z
DTSTART;TZID=Europe/Amsterdam:20231026T190000
DTEND;TZID=Europe/Amsterdam:20231026T200000
SUMMARY:Utrecht - Inloop nieuwe leden en belangstellenden
DESCRIPTION:Inloop nieuwe leden en belangstellenden.
LOCATION:Provinciehuis Archimedeslaan 6\, Utrecht
URL:https://voltnederland.org/agenda/inloop-nieuwe-leden-en-belangstellende
 n
END:VEVENT
END:VCALENDAR
