BEGIN:VCALENDAR
VERSION:2.0
PRODID:-//Volt Europa//Events//EN
CALSCALE:GREGORIAN
METHOD:PUBLISH
BEGIN:VEVENT
UID:informatiesessie-indienen-moties-en-amendementen-voor-congres-28-april-
 1712253600@voltnederland.org
DTSTAMP:20260423T114544Z
DTSTART;TZID=Europe/Amsterdam:20240404T200000
DTEND;TZID=Europe/Amsterdam:20240404T210000
SUMMARY:Informatiesessie indienen moties en amendementen voor congres 28 ap
 ril
DESCRIPTION:In aanloop naar het congres van 28 april organiseren wij een on
 line sessie om de technische aspecten van het indienen van een motie of ame
 ndement te bespreken.  Wanneer een motie niet op de juiste manier wordt ing
 ediend\, wordt deze soms op technische grond afgewezen en moet deze worden 
 herschreven en opnieuw ingediend. Weet jij na het lezen van de  informatiep
 agina  nog niet helemaal zeker hoe het indienen werkt of waar een amendemen
 t of motie aan moet voldoen\, kom dan naar deze sessie! Op 4 apr
LOCATION:Online
URL:https://voltnederland.org/agenda/informatiesessie-indienen-moties-en-am
 endementen-voor-congres-28-april
END:VEVENT
END:VCALENDAR
