BEGIN:VCALENDAR
VERSION:2.0
PRODID:-//Volt Europa//Events//EN
CALSCALE:GREGORIAN
METHOD:PUBLISH
BEGIN:VEVENT
UID:informatiesessie-agendapunten-congres-28-april-1710356400@voltnederland
 .org
DTSTAMP:20260423T113948Z
DTSTART;TZID=Europe/Amsterdam:20240313T200000
DTEND;TZID=Europe/Amsterdam:20240313T213000
SUMMARY:Informatiesessie agendapunten congres 28 april
DESCRIPTION:Beste Volters\, In aanloop naar het  congres van 28 april  orga
 niseren wij een online sessie om de technische aspecten van het indienen va
 n een agendapunt te bespreken. Het indienen van agendapunten moet namelijk 
 gebeuren op een specifieke manier die nog niet bij iedereen bekend is. Wann
 eer een punt niet op de juiste manier wordt ingediend\, wordt deze op techn
 ische grond afgewezen en moet deze worden herschreven en opnieuw ingediend.
   Om dat te voorkomen organiseren wij een sessie waarin onze pro
LOCATION:Online
URL:https://voltnederland.org/agenda/informatiesessie-agendapunten-congres-
 28-april
END:VEVENT
END:VCALENDAR
