BEGIN:VCALENDAR
VERSION:2.0
PRODID:-//Volt Europa//Events//EN
CALSCALE:GREGORIAN
METHOD:PUBLISH
BEGIN:VEVENT
UID:in-gesprek-over-het-proces-van-kandidaatstelling-1705431600@voltnederla
 nd.org
DTSTAMP:20260423T102132Z
DTSTART;TZID=Europe/Amsterdam:20240116T200000
DTEND;TZID=Europe/Amsterdam:20240116T213000
SUMMARY:In gesprek over het proces van kandidaatstelling
DESCRIPTION:Tijdens deze online gesprekssessie staan de kandidatencommissie
  en bestuursleden klaar om jouw vragen over het kandidaatstellingsproces te
  beantwoorden. Wij kijken uit naar jullie aanwezigheid! NB: De sessie wordt
  afgesloten wanneer er na 20:15 uur geen deelnemers meer aanwezig zijn.
LOCATION:Online
URL:https://voltnederland.org/agenda/in-gesprek-over-het-proces-van-kandida
 atstelling
END:VEVENT
END:VCALENDAR
