BEGIN:VCALENDAR
VERSION:2.0
PRODID:-//Volt Europa//Events//EN
CALSCALE:GREGORIAN
METHOD:PUBLISH
BEGIN:VEVENT
UID:in-dialoog-over-israel-palestina-en-verbinding-in-tijden-van-polarisati
 e-1727460000@voltnederland.org
DTSTAMP:20260423T114629Z
DTSTART;TZID=Europe/Amsterdam:20240927T200000
DTEND;TZID=Europe/Amsterdam:20240927T223000
SUMMARY:In dialoog over Israël\, Palestina en verbinding in tijden van pol
 arisatie
DESCRIPTION:We nodigen je graag uit voor een bijzonder evenement waar we in
  gesprek gaan over Israel\, Palestina en verbinding in tijden van polarisat
 ie en hoge emoties. We doen dat met de oprichters van Standing Together\, A
 lon-Lee Green en Rula Daood\, die in september naar Amsterdam reizen. Dit i
 s een unieke kans om hen te ontmoeten. Achtergrond Standing Together is een
  progressieve grassrootsbeweging die Joodse en Palestijnse burgers van Isra
 ël beweegt om op te komen tegen de bezetting van de Palestijnse g
LOCATION:Café Belcampo\, Amsterdam
URL:https://voltnederland.org/agenda/in-dialoog-over-israel-palestina-en-ve
 rbinding-in-tijden-van-polarisatie
END:VEVENT
END:VCALENDAR
