BEGIN:VCALENDAR
VERSION:2.0
PRODID:-//Volt Europa//Events//EN
CALSCALE:GREGORIAN
METHOD:PUBLISH
BEGIN:VEVENT
UID:hoe-werkt-europa-1760549400@voltnederland.org
DTSTAMP:20260423T101945Z
DTSTART;TZID=Europe/Amsterdam:20251015T193000
DTEND;TZID=Europe/Amsterdam:20251015T220000
SUMMARY:Alkmaar als onderdeel van Europa
DESCRIPTION:Volt Alkmaar wil lokale\, provinciale\, landelijke en Europese 
 politiek dichter bij elkaar brengen. Dat gaan we doen met een paneldiscussi
 e over thema's als klimaat\, democratie\, jongerenparticipatie\, wonen\, mi
 gratie en samenwerking. Aan het panel nemen deel  Reinier van Lanschot  (Vo
 lt-lid Europees Parlement)\,  Julia Schneemann  (Statenlid Provincie Noord-
 Holland namens Volt) en  Daan Stokvis  plus andere Volt-kandidaten bij de T
 weede Kamerverkiezingen op 29 oktober. Volt Alkmaar  bereidt zich voo
LOCATION:Fabrique Unique  Pettemerstraat 35-37\, 1823 CW Alkmaar
URL:https://voltnederland.org/agenda/hoe-werkt-europa
END:VEVENT
END:VCALENDAR
