BEGIN:VCALENDAR
VERSION:2.0
PRODID:-//Volt Europa//Events//EN
CALSCALE:GREGORIAN
METHOD:PUBLISH
BEGIN:VEVENT
UID:hoe-fascisme-werkt-herkennen-benoemen-bestrijden-1761069600@voltnederla
 nd.org
DTSTAMP:20260423T114548Z
DTSTART;TZID=Europe/Amsterdam:20251021T200000
DTEND;TZID=Europe/Amsterdam:20251021T220000
SUMMARY:Hoe fascisme werkt: herkennen - benoemen - bestrijden
DESCRIPTION:Hoe gaan we om met groeiend fascisme? Wat is de rol van politie
 ke partijen? Wat kan jij doen? Op 21 oktober met Rosan Smits & Jelle Postma
  Op 21 oktober gaan we in gesprek over onze democratie en groeiend fascisme
 . Hoe moeten we ermee omgaan? Welke rol hebben politieke partijen hierin? W
 at kan jij doen? Samen met Rosan Smits (Adjunct-hoofdredacteur van de Corre
 spondent en schrijfster van het boek ‘Dit is fascisme’)\, Jelle Postma 
 (Directeur van de Justice for Prosperity Foundation) en meer!
LOCATION:Kleine-Gartmanplantsoen 10\, Amsterdam
URL:https://voltnederland.org/agenda/hoe-fascisme-werkt-herkennen-benoemen-
 bestrijden
END:VEVENT
END:VCALENDAR
