BEGIN:VCALENDAR
VERSION:2.0
PRODID:-//Volt Europa//Events//EN
CALSCALE:GREGORIAN
METHOD:PUBLISH
BEGIN:VEVENT
UID:het-grote-jongeren-europa-debat-1717090200@voltnederland.org
DTSTAMP:20260423T102102Z
DTSTART;TZID=Europe/Amsterdam:20240530T193000
DTEND;TZID=Europe/Amsterdam:20240530T220000
SUMMARY:Het Grote Jongeren Europa debat
DESCRIPTION:Dit debat biedt een unieke gelegenheid voor zowel jonge kandida
 ten als vertegenwoordigers van jongerenorganisaties om met elkaar in discus
 sie te gaan over de toekomst van Europa. Thema's als klimaat\, defensie\, m
 igratie\, economie en democratie zullen centraal staan in dit dynamische de
 bat\, dat zal worden bijgewoond door onze eigen Anna Strolenberg en Ruben S
 chouten. Met jouw betrokkenheid kunnen we samen de stem van de jeugd laten 
 horen en de toekomst van Europa vormgeven. We kijken ernaar uit om
LOCATION:Pakhuis de Zwijger in Amsterdam
URL:https://voltnederland.org/agenda/het-grote-jongeren-europa-debat
END:VEVENT
END:VCALENDAR
