BEGIN:VCALENDAR
VERSION:2.0
PRODID:-//Volt Europa//Events//EN
CALSCALE:GREGORIAN
METHOD:PUBLISH
BEGIN:VEVENT
UID:het-grote-europese-landbouwdebat-2024-1716832800@voltnederland.org
DTSTAMP:20260423T113948Z
DTSTART;TZID=Europe/Amsterdam:20240527T200000
DTEND;TZID=Europe/Amsterdam:20240527T220000
SUMMARY:Het Grote Europese Landbouwdebat 2024
DESCRIPTION:Ruim een week voor de verkiezingen voor het Europees Parlement 
 gaan de Europarlementariërs met landbouwportefeuille met elkaar online in 
 debat. Daarbij gaan de deelnemers\, waaronder onze eigen Veerle Smit\, prat
 en over thema’s zoals handel\, geopolitiek en de toekomst van Europa als 
 landbouwnatie.
LOCATION:Online
URL:https://voltnederland.org/agenda/het-grote-europese-landbouwdebat-2024
END:VEVENT
END:VCALENDAR
