BEGIN:VCALENDAR
VERSION:2.0
PRODID:-//Volt Europa//Events//EN
CALSCALE:GREGORIAN
METHOD:PUBLISH
BEGIN:VEVENT
UID:het-europese-energie-verkiezingsdebat-1717005600@voltnederland.org
DTSTAMP:20260423T114134Z
DTSTART;TZID=Europe/Amsterdam:20240529T200000
DTEND;TZID=Europe/Amsterdam:20240529T220000
SUMMARY:Amsterdam - Het Europese Energie-Verkiezingsdebat
DESCRIPTION:Nederland en de Europese Unie hebben te maken met een ‘import
 kloof’: we zijn zeer afhankelijk van de import van fossiele energie\, vaa
 k uit landen met autoritaire regimes. Dit heeft niet alleen grote gevolgen 
 voor de hoogte en de onvoorspelbaarheid van de energierekening van mensen e
 n bedrijven\, het maakt Europa ook geopolitiek kwetsbaar. Dit debat gaat ov
 er het Europese energiebeleid\, en in het bijzonder over de uitdaging om on
 ze afhankelijkheid van de import van fossiele energie te verminderen 
LOCATION:Pakhuis de Zwijger Amsterdam
URL:https://voltnederland.org/agenda/het-europese-energie-verkiezingsdebat
END:VEVENT
END:VCALENDAR
