BEGIN:VCALENDAR
VERSION:2.0
PRODID:-//Volt Europa//Events//EN
CALSCALE:GREGORIAN
METHOD:PUBLISH
BEGIN:VEVENT
UID:helmond-meet-up-mei-1716400800@voltnederland.org
DTSTAMP:20260423T102048Z
DTSTART;TZID=Europe/Amsterdam:20240522T200000
DTEND;TZID=Europe/Amsterdam:20240522T213000
SUMMARY:Helmond - Meet-up mei
DESCRIPTION:De maandelijkse borrel van Volt Helmond. Ontmoet mede-Volters\,
  ga in gesprek over actualiteiten en klets gezellig met elkaar! We nodigen 
 nieuwe leden en geïnteresseerden ook van harte uit om naar de borrel te ko
 men! Vragen rondom toegankelijkheid kunnen gesteld worden via luc.verhoeven
 @volteuropa.org
LOCATION:Wijkhuis 't Brandpunt\, Biezenlaan 29 Helmond
URL:https://voltnederland.org/agenda/helmond-meet-up-mei
END:VEVENT
END:VCALENDAR
