BEGIN:VCALENDAR
VERSION:2.0
PRODID:-//Volt Europa//Events//EN
CALSCALE:GREGORIAN
METHOD:PUBLISH
BEGIN:VEVENT
UID:helmond-maandelijkse-borrel-1698256800@voltnederland.org
DTSTAMP:20260423T101947Z
DTSTART;TZID=Europe/Amsterdam:20231025T200000
DTEND;TZID=Europe/Amsterdam:20231025T213000
SUMMARY:Helmond - Maandelijkse borrel
DESCRIPTION:De maandelijkse borrel van Volt Helmond. Ontmoet mede-Volters\,
  ga in gesprek over actualiteiten en klets gezellig met elkaar! We nodigen 
 nieuwe leden en geïnteresseerden ook van harte uit om naar de borrel te ko
 men! Vragen rondom toegankelijkheid kunnen gesteld worden via luc.verhoeven
 @volteuropa.org
LOCATION:Café Bruheze\, Peeleik 1\, 5704 AP Helmond
URL:https://voltnederland.org/agenda/helmond-maandelijkse-borrel
END:VEVENT
END:VCALENDAR
