BEGIN:VCALENDAR
VERSION:2.0
PRODID:-//Volt Europa//Events//EN
CALSCALE:GREGORIAN
METHOD:PUBLISH
BEGIN:VEVENT
UID:helmond-borrel-oktober-1730314800@voltnederland.org
DTSTAMP:20260423T101919Z
DTSTART;TZID=Europe/Amsterdam:20241030T200000
DTEND;TZID=Europe/Amsterdam:20241030T213000
SUMMARY:Helmond - Borrel Oktober
DESCRIPTION:De maandelijkse borrel van Volt Helmond. Ontmoet mede-Volters\,
  ga in gesprek over actualiteiten en klets gezellig met elkaar! We nodigen 
 nieuwe leden en geïnteresseerden ook van harte uit om naar de borrel te ko
 men! Vragen rondom toegankelijkheid kunnen gesteld worden via  luc.verhoeve
 n@volteuropa.org
LOCATION:Wijkvereniging "De Zonnesteen"\, Rijnlaan 91 Helmond
URL:https://voltnederland.org/agenda/helmond-borrel-oktober
END:VEVENT
END:VCALENDAR
