BEGIN:VCALENDAR
VERSION:2.0
PRODID:-//Volt Europa//Events//EN
CALSCALE:GREGORIAN
METHOD:PUBLISH
BEGIN:VEVENT
UID:hebben-we-een-te-groot-woningprobleem-vanwege-immigratie-1740076200@vol
 tnederland.org
DTSTAMP:20260423T113923Z
DTSTART;TZID=Europe/Amsterdam:20250220T193000
DTEND;TZID=Europe/Amsterdam:20250220T220000
SUMMARY:Hebben we een te groot woningprobleem vanwege immigratie?
DESCRIPTION:Het kabinet is er vorig jaar over gevallen. Lubach heeft er 3 i
 tems aan besteed en iedereen in Nederland heeft een mening. Net als bij 18 
 miljoen voetbalcoaches tijdens EK en WK. Ook in Brabant zullen we de huisve
 sting opdracht moeten invullen. En dat terwijl veel van onze jongeren ook o
 p zoek zijn naar een woning en hun leven willen beginnen. De gemeente Den B
 osch had diverse plannen voor huisvesting van statushouders\, maar geen van
  die plannen zijn uitgevoerd. Is het woningprobleem te groot vo
LOCATION:Theaterwerkplaats\, Industrieweg 9c te Vught
URL:https://voltnederland.org/agenda/hebben-we-een-te-groot-woningprobleem-
 vanwege-immigratie
END:VEVENT
END:VCALENDAR
