BEGIN:VCALENDAR
VERSION:2.0
PRODID:-//Volt Europa//Events//EN
CALSCALE:GREGORIAN
METHOD:PUBLISH
BEGIN:VEVENT
UID:gendergelijkheid-deel-2-1747848600@voltnederland.org
DTSTAMP:20260423T101921Z
DTSTART;TZID=Europe/Amsterdam:20250521T193000
DTEND;TZID=Europe/Amsterdam:20250521T220000
SUMMARY:Gendergelijkheid - deel 2
DESCRIPTION:V olt-avond met Anouk Ooms!   Op 23 april en 21 mei neemt Anouk
  Ooms ons mee in de wereld van gender(on)gelijkheid! Anouk is Volt lid in D
 eventer\, kandidaat geweest voor de Europese verkiezingen en werkzaam als a
 dviseur tegen discriminatie en vóór inclusie bij allerlei instanties en b
 edrijven. Twee avonden met verschillende inhoud\, die op elkaar volgen\, ma
 ar ook los te bezoeken zijn als je slechts één van beide kan we zouden he
 t tof vinden als je iemand meeneemt met een ander gender dan die van 
LOCATION:Meppel - N.t.b.
URL:https://voltnederland.org/agenda/gendergelijkheid-deel-2
END:VEVENT
END:VCALENDAR
