BEGIN:VCALENDAR
VERSION:2.0
PRODID:-//Volt Europa//Events//EN
CALSCALE:GREGORIAN
METHOD:PUBLISH
BEGIN:VEVENT
UID:gemeenteraad-verkiezingen-2026-1742408400@voltnederland.org
DTSTAMP:20260424T012807Z
DTSTART;TZID=Europe/Amsterdam:20250319T192000
DTEND;TZID=Europe/Amsterdam:20250319T213000
SUMMARY:Gemeenteraad verkiezingen 2026
DESCRIPTION:Het is deze maand nog een jaar en dan is het zover. Dan gaan we
  ook in Noord Oost Brabant weer verkiezingen hebben in Den Bosch. We hebben
  de pijlstok gestoken in Oss en Vught\, maar daar is het nog te vroeg om al
 s Volt in de gemeenteraad te gaan zitten. We gaan ons als Volt voorbereiden
  op deze verkiezingen en die beginnen nu. We willen jullie bijpraten over d
 e kieslijst\, verkiezingsprogramma\, campagne\, het project en de planning.
  Vind je het leuk om eens te horen wat er allemaal bij komt kijken
LOCATION:Knillispoort\, Den Bosch
URL:https://voltnederland.org/agenda/gemeenteraad-verkiezingen-2026
END:VEVENT
END:VCALENDAR
