BEGIN:VCALENDAR
VERSION:2.0
PRODID:-//Volt Europa//Events//EN
CALSCALE:GREGORIAN
METHOD:PUBLISH
BEGIN:VEVENT
UID:geldrop-meet-up-1747764000@voltnederland.org
DTSTAMP:20260423T101914Z
DTSTART;TZID=Europe/Amsterdam:20250520T200000
DTEND;TZID=Europe/Amsterdam:20250520T213000
SUMMARY:Geldrop meet-up
DESCRIPTION:Op dinsdag 20 mei aanstaande organiseren we een bijeenkomst voo
 r leden en belangstellenden in Geldrop/Mierlo. Wil je kennismaken met ander
 e leden uit je eigen gemeente en Volt in Zuidoost-Brabant\, dan is dit je k
 ans! Neem iedereen mee die mogelijk interesse heeft in Volt en deel met ons
  wat jullie belangrijk vinden in de lokale politiek en hoe jullie Volt daar
  graag bij betrokken zien.  We zien je graag op dinsdag 20 mei bij gemeensc
 hapshuis Zesgehuchten\, Papenvoort 1 in Geldrop. Tot dan!  On Tu
LOCATION:Gemeenschapshuis Zesgehuchten\, Papenvoort 1 Geldrop
URL:https://voltnederland.org/agenda/geldrop-meet-up
END:VEVENT
END:VCALENDAR
