BEGIN:VCALENDAR
VERSION:2.0
PRODID:-//Volt Europa//Events//EN
CALSCALE:GREGORIAN
METHOD:PUBLISH
BEGIN:VEVENT
UID:gelderland-verkiezingsavond-ep-verkiezingen-1717695000@voltnederland.or
 g
DTSTAMP:20260423T114538Z
DTSTART;TZID=Europe/Amsterdam:20240606T193000
DTEND;TZID=Europe/Amsterdam:20240606T230000
SUMMARY:Gelderland - Verkiezingsavond EP Verkiezingen
DESCRIPTION:De Europese Unie is geboren na het einde van de Tweede Wereldoo
 rlog. Verkiezingsavond vieren wij dus graag met jullie tegenover de plek wa
 ar de oorlog in Gelderland werd afgesloten. Wil je met ons genieten van een
  drankje en gezelligheid in Proost! in Wageningen\, tegenover Hotel De Were
 ld. We kunnen nauwelijks wachten om deze spannende avond met jullie te dele
 n en samen de eerste exit polls te bekijken!
LOCATION:PROOST! in Wageningen\, 5 Mei plein 13 6701 DW Wageningen
URL:https://voltnederland.org/agenda/gelderland-verkiezingsavond-ep-verkiez
 ingen
END:VEVENT
END:VCALENDAR
