BEGIN:VCALENDAR
VERSION:2.0
PRODID:-//Volt Europa//Events//EN
CALSCALE:GREGORIAN
METHOD:PUBLISH
BEGIN:VEVENT
UID:frankfurt-am-main-d-ga-volt-europa-1763798400@voltnederland.org
DTSTAMP:20260423T102051Z
DTSTART;TZID=Europe/Amsterdam:20251122T090000
DTEND;TZID=Europe/Amsterdam:20251123T170000
SUMMARY:Frankfurt am Main (D): GA Volt Europa
DESCRIPTION:Reserveer alvast in je agenda! De General Assembly (GA) van Vol
 t Europa zal in 2025 in Frankfurt am Main plaatsvinden. Na Praag (2022)\, B
 oekarest (2023)\, Parijs (2023)\, Tirana (2024) zal het jaarlijkse congres 
 van Volt Europa dit jaar in Duitsland zijn. Verwacht lezingen\, workshops e
 n ontmoetingen met Volters uit heel Europa op zaterdag 22 en zondag 23 nove
 mber. En waarschijnlijk zijn er nog tientallen Volt activiteiten buiten het
  officiële programma om\, dus kom vooral wat eerder of blijf wat la
LOCATION:Frankfurt am Main - Kap Europa\, Osloerstrasse 5\, 60327 Frankfurt
  am Main
URL:https://voltnederland.org/agenda/frankfurt-am-main-d-ga-volt-europa
END:VEVENT
END:VCALENDAR
