BEGIN:VCALENDAR
VERSION:2.0
PRODID:-//Volt Europa//Events//EN
CALSCALE:GREGORIAN
METHOD:PUBLISH
BEGIN:VEVENT
UID:fractieavond-volt-provincie-utrecht-nieuwe-ledenborrel-1704394800@voltn
 ederland.org
DTSTAMP:20260423T114339Z
DTSTART;TZID=Europe/Amsterdam:20240104T200000
DTEND;TZID=Europe/Amsterdam:20240104T230000
SUMMARY:Fractieavond Volt Provincie Utrecht & nieuwe ledenborrel
DESCRIPTION:20:30 start fractieavond Tijdens het laatste congres van Volt P
 rovincie Utrecht hebben we het al kunnen horen: de Volt fractie heeft het v
 oor elkaar gekregen om de Europese vlag 🇪🇺 een plek te geven in de St
 atenzaal van de provincie Utrecht. Maar wat kan de provincie nu concreet ha
 len uit\, en brengen naar Europa? Daarover gaan we op 4 januari vanaf 20:30
  over in gesprek met onze fractieleden. Denk aan concrete onderwerpen zoals
  klimaat en energie\, (circulaire) economie\, digitalisering en mobilit
LOCATION:Bar Josefien\, Voorstraat 96\, 3512AV Utrecht
URL:https://voltnederland.org/agenda/fractieavond-volt-provincie-utrecht-ni
 euwe-ledenborrel
END:VEVENT
END:VCALENDAR
