BEGIN:VCALENDAR
VERSION:2.0
PRODID:-//Volt Europa//Events//EN
CALSCALE:GREGORIAN
METHOD:PUBLISH
BEGIN:VEVENT
UID:forum-groningen-debate-1716829200@voltnederland.org
DTSTAMP:20260423T143945Z
DTSTART;TZID=Europe/Amsterdam:20240527T190000
DTEND;TZID=Europe/Amsterdam:20240527T233000
SUMMARY:Forum Groningen Debate
DESCRIPTION:*This debate is in English only Welcome to the Forum Groningen 
 debate\, an event where key representatives from nine political parties wil
 l discuss crucial EU-related topics. Among the speakers is Reinier van Lans
 chot \, who will share his insights on these pressing issues. For those dri
 ving\, parking is available in the garage beneath the Forum at Schoolstraat
  16\, 9712 JS Groningen. If using public transport\, it's a 20-minute walk 
 or a 6-minute bike ride from Groningen train station\, with free bik
LOCATION:Nieuwe Markt 1\, Forum Groningen
URL:https://voltnederland.org/agenda/forum-groningen-debate
END:VEVENT
END:VCALENDAR
