BEGIN:VCALENDAR
VERSION:2.0
PRODID:-//Volt Europa//Events//EN
CALSCALE:GREGORIAN
METHOD:PUBLISH
BEGIN:VEVENT
UID:eurovolt-songfestival-cest-la-volt-1747504800@voltnederland.org
DTSTAMP:20260423T102053Z
DTSTART;TZID=Europe/Amsterdam:20250517T200000
DTEND;TZID=Europe/Amsterdam:20250518T013000
SUMMARY:EuroVolt Songfestival: C’est la Volt
DESCRIPTION:Het Eurovisiesongfestival is het jaarlijkse moment dat heel Eur
 opa met hetzelfde evenement bezig is. Wat is er dan leuker dan dit evenemen
 t met andere Volt-leden samen te bekijken? Volt Nederland organiseert met Q
 ueerVolt een gezellige avond in LE:EN Utrecht om samen naar dit muziekfeest
  te kijken en natuurlijk meningen te delen. Het vindt plaats na het landeli
 jke congres op 17 mei. We gaan ook verbinding maken met alle andere Volt-le
 den in Europa die thuis of gezamenlijk aan het kijken zijn.  W
LOCATION:NEEL achter LE:EN Utrecht\, Heuveloord 140\, 3523 CK Utrecht
URL:https://voltnederland.org/agenda/eurovolt-songfestival-cest-la-volt
END:VEVENT
END:VCALENDAR
