BEGIN:VCALENDAR
VERSION:2.0
PRODID:-//Volt Europa//Events//EN
CALSCALE:GREGORIAN
METHOD:PUBLISH
BEGIN:VEVENT
UID:europees-verkiezingsdebat-kinderrechten-1717003800@voltnederland.org
DTSTAMP:20260423T131626Z
DTSTART;TZID=Europe/Amsterdam:20240529T193000
DTEND;TZID=Europe/Amsterdam:20240529T210000
SUMMARY:Europees verkiezingsdebat kinderrechten
DESCRIPTION:Op woensdag 29 mei 2024 organiseert het Kinderrechtencollectief
  een cruciaal debat over kinderrechten in het kader van de Europese verkiez
 ingen. Als Volt nodigen we je uit om deel te nemen aan dit belangrijke even
 ement\, waar kandidaat-Europarlementariërs waaronder Sascha Muller hun vis
 ie zullen delen op de bescherming en bevordering van de rechten van kindere
 n en jongeren in Europa. Gehouden in De Balie in Amsterdam\, biedt dit deba
 t een platform om te horen hoe onze toekomstige vertegenwoordiger
LOCATION:De Balie\, Amsterdam
URL:https://voltnederland.org/agenda/europees-verkiezingsdebat-kinderrechte
 n
END:VEVENT
END:VCALENDAR
