BEGIN:VCALENDAR
VERSION:2.0
PRODID:-//Volt Europa//Events//EN
CALSCALE:GREGORIAN
METHOD:PUBLISH
BEGIN:VEVENT
UID:europeans-in-the-netherlands-lets-vote-1705082400@voltnederland.org
DTSTAMP:20260423T142724Z
DTSTART;TZID=Europe/Amsterdam:20240112T190000
DTEND;TZID=Europe/Amsterdam:20240112T210000
SUMMARY:Europeans in the Netherlands - let's vote!
DESCRIPTION:Europe is going to the voting polls in a few months and this in
 cludes more than 800k Europeans who live in the Netherlands. What's importa
 nt for them? What does Volt do for them? How can we reach out to them durin
 g the election? Join us for a meetup and panel discussion about this intern
 ational perspective. We are looking forward to a gezellige evening. With pa
 rticipation of aspirant candidates for the European election Cédric Deverc
 here\, Ruben Schouten and Verena Kitowski. This event is hosted 
LOCATION:Café Schlemmer at Lange Houtstraat 17 in The Hague
URL:https://voltnederland.org/agenda/europeans-in-the-netherlands-lets-vote
END:VEVENT
END:VCALENDAR
