BEGIN:VCALENDAR
VERSION:2.0
PRODID:-//Volt Europa//Events//EN
CALSCALE:GREGORIAN
METHOD:PUBLISH
BEGIN:VEVENT
UID:europe-whats-next-een-veilig-europa-1750491000@voltnederland.org
DTSTAMP:20260423T114107Z
DTSTART;TZID=Europe/Amsterdam:20250621T093000
DTEND;TZID=Europe/Amsterdam:20250621T170000
SUMMARY:Europe what's next - één veilig Europa
DESCRIPTION:Wij zijn een politiek onafhankelijk en hartstochtelijk Europees
  initiatief van vrijwilligers. Onze missie is om mensen te betrekken bij é
 n te informeren over Europa en maatschappelijk relevante thema’s. In een 
 tijd waarin Europa onder druk staat\, willen wij ruimte creëren voor refle
 ctie\, verdieping en ontmoeting. Dit voor iedereen die zich betrokken voelt
  bij wat er op ons continent speelt. Een van die grote vragen gaat over de 
 toekomst van Europese veiligheid. Daarom organiseren wij het symposi
LOCATION:NE:EL Heuveloord 140\, Utrecht
URL:https://voltnederland.org/agenda/europe-whats-next-een-veilig-europa
END:VEVENT
END:VCALENDAR
