BEGIN:VCALENDAR
VERSION:2.0
PRODID:-//Volt Europa//Events//EN
CALSCALE:GREGORIAN
METHOD:PUBLISH
BEGIN:VEVENT
UID:europadebat-haagsche-hogeschool-1716397200@voltnederland.org
DTSTAMP:20260423T102048Z
DTSTART;TZID=Europe/Amsterdam:20240522T190000
DTEND;TZID=Europe/Amsterdam:20240522T210000
SUMMARY:Europadebat Haagsche Hogeschool
DESCRIPTION:Op 6 juni krijgt Europa vorm en wordt de toekomst gesmeed tijde
 ns een energiek debat georganiseerd door de Universiteit Leiden en De Haags
 e Hogeschool. Als Volt nodigen we je uit om deel te nemen aan dit belangrij
 ke evenement\, waar kandidaat-Europarlementariërs\, waaronder onze eigen R
 einier van Lanschot\, in discussie gaan over cruciale thema's zoals geopoli
 tiek\, klimaat\, migratie\, en de impact van technologie op onze samenlevin
 g. Het debat belooft een waardevol inzicht te bieden in de richting d
LOCATION:Den Haag\, Haagse Hogeschool
URL:https://voltnederland.org/agenda/europadebat-haagsche-hogeschool
END:VEVENT
END:VCALENDAR
