BEGIN:VCALENDAR
VERSION:2.0
PRODID:-//Volt Europa//Events//EN
CALSCALE:GREGORIAN
METHOD:PUBLISH
BEGIN:VEVENT
UID:europa-een-machtig-wapen-1759424400@voltnederland.org
DTSTAMP:20260423T102218Z
DTSTART;TZID=Europe/Amsterdam:20251002T190000
DTEND;TZID=Europe/Amsterdam:20251002T210000
SUMMARY:Europa: een machtig wapen?
DESCRIPTION:Met een nog voortdurende oorlog in Oekraïne\, waarvan de gevol
 gen steeds vaker ook in ons dagelijks leven in Nederland merkbaar worden\, 
 is de vraag gerechtvaardigd of wij in Nederland voldoende toegerust zijn te
 gen agressie van buitenaf. Over de rol van Europa hierin gaat Volt graag in
  gesprek op donderdag 2 oktober. In Kopgroep bibliotheek School 7 te Den He
 lder houdt Bart Brouwers een korte inleiding over de vraag ‘Europa: een m
 achtig wapen?’ Brouwers is medewerker van het European Defence Agen
LOCATION:Bibliotheek School 7 te Den Helder
URL:https://voltnederland.org/agenda/europa-een-machtig-wapen
END:VEVENT
END:VCALENDAR
