BEGIN:VCALENDAR
VERSION:2.0
PRODID:-//Volt Europa//Events//EN
CALSCALE:GREGORIAN
METHOD:PUBLISH
BEGIN:VEVENT
UID:eurobabbel-nov2025-1762596000@voltnederland.org
DTSTAMP:20260423T113839Z
DTSTART;TZID=Europe/Amsterdam:20251108T110000
DTEND;TZID=Europe/Amsterdam:20251108T163000
SUMMARY:Eurobabbel Münster
DESCRIPTION:Wie:  Iedereen uit Nederland en Duitsland is welkom\, ongeacht 
 lidmaatschap of politieke kleur. Ook kinderen\, partners en vrienden zijn w
 elkom. Wat:  Eurobabbel over lokale politiek en democratie – een informee
 l\, meertalig gesprek met bijdragen van Duitse en Nederlandse gasten over l
 okale politieke thema’s en hun belang voor Europa. Lokale ervaring en dem
 ocratische samenwerking staan centraal. Waar:  Heimathaus Handorf\, Immelma
 nnstraße 4\, 48157 Münster-Handorf. Google Maps-link: Heimathaus Handor
LOCATION:Münster
URL:https://voltnederland.org/overijssel/agenda/eurobabbel-nov2025
END:VEVENT
END:VCALENDAR
