BEGIN:VCALENDAR
VERSION:2.0
PRODID:-//Volt Europa//Events//EN
CALSCALE:GREGORIAN
METHOD:PUBLISH
BEGIN:VEVENT
UID:eurobabbel-munster-eurosense-1748091600@voltnederland.org
DTSTAMP:20260423T102048Z
DTSTART;TZID=Europe/Amsterdam:20250524T150000
DTEND;TZID=Europe/Amsterdam:20250524T180000
SUMMARY:Eurobabbel Münster - Eurosense
DESCRIPTION:Wie: Iedereen met interesse in taal en cultuur\, ook niet Volt 
 leden zijn van harte welkom Wat: Eurobabbel  Waar: Münster\, Hotel Galacti
 ca Wanneer: 24 mei Wil je graag weten hoe we de Europese verhalen beter met
  elkaar kunnen delen? Hoe moeten volksvertegenwoordigers erachter komen wat
  er gaande is binnen Europa? Ken jij Eurosense dan al?  Europsense  is een 
 Europees Volt project\, bedoeld om verhalen uit de samenleving op te halen.
  Het is een enquête waarin groepen hun ervaringen in kunnen delen 
LOCATION:Euregio\, Osnabrück
URL:https://voltnederland.org/agenda/eurobabbel-munster-eurosense
END:VEVENT
END:VCALENDAR
