BEGIN:VCALENDAR
VERSION:2.0
PRODID:-//Volt Europa//Events//EN
CALSCALE:GREGORIAN
METHOD:PUBLISH
BEGIN:VEVENT
UID:eurobabbel-kerstmarkt-munster-1734188400@voltnederland.org
DTSTAMP:20260423T101946Z
DTSTART;TZID=Europe/Amsterdam:20241214T160000
DTEND;TZID=Europe/Amsterdam:20241214T180000
SUMMARY:Eurobabbel - Kerstmarkt Münster
DESCRIPTION:Op 14 december gaan we weer met z’n allen naar de kerstmarkt 
 met onze Volt-vrienden uit Münster. Kom ook langs om de Duitsers te helpen
  met handtekeningen verzamelen en geniet van de kerststemming en glühwein 
 in een echte Duitse stad. Wie: Iedereen met interesse in taal en cultuur\, 
 ook niet Volt leden zijn van harte welkom Wat: Eurobabbel en kerstmarkt Waa
 r: Münster Wanneer: 14 december   van (waarschijnlijk) 11:00 tot 18:00\, 
 vrije in/uitloop Programma: 9:33 - 10:44 - heenreis ( bijvoorbeeld : d
LOCATION:Münster
URL:https://voltnederland.org/agenda/eurobabbel-kerstmarkt-munster
END:VEVENT
END:VCALENDAR
