BEGIN:VCALENDAR
VERSION:2.0
PRODID:-//Volt Europa//Events//EN
CALSCALE:GREGORIAN
METHOD:PUBLISH
BEGIN:VEVENT
UID:eurobabbel-huisvesting-1737806400@voltnederland.org
DTSTAMP:20260423T101910Z
DTSTART;TZID=Europe/Amsterdam:20250125T130000
DTEND;TZID=Europe/Amsterdam:20250125T170000
SUMMARY:Eurobabbel Huisvesting
DESCRIPTION:Wie: Iedereen met interesse in taal en cultuur\, ook niet Volt 
 leden zijn van harte welkom Wat: Eurobabbel met thema 100 jaar volkshuisves
 ting Waar: Hengelo\, Beekstraat 51\, Museum Hengelo Wanneer: 25 januari   
 van 13:00 tot 17:00 Deze Eurobabbel zal gaan over 100 jaar volkshuisvesting
  in de regio Twente. We krijgen een rondleiding over het Lansink en een pre
 sentatie van ervaringsdeskundigen.  Meenemen: Wandelschoenen\, we gaan door
  de wijk zo'n 5 km wandelen Als je er een hebt: Museumjaarkaart The
LOCATION:Hengelo
URL:https://voltnederland.org/overijssel/agenda/eurobabbel-huisvesting
END:VEVENT
END:VCALENDAR
