BEGIN:VCALENDAR
VERSION:2.0
PRODID:-//Volt Europa//Events//EN
CALSCALE:GREGORIAN
METHOD:PUBLISH
BEGIN:VEVENT
UID:eu-vlag-hijsen-voor-het-provinciehuis-in-arnhem-1715178600@voltnederlan
 d.org
DTSTAMP:20260423T144425Z
DTSTART;TZID=Europe/Amsterdam:20240508T163000
DTEND;TZID=Europe/Amsterdam:20240508T170000
SUMMARY:EU-vlag hijsen voor het Provinciehuis in Arnhem
DESCRIPTION:Ter ere van Europadag op 9 mei\, hijsen wij als fractie Volt Ge
 lderland samen met andere partijen in Gelderland en geïnteresseerden de vl
 ag van de Europese Unie op 8 mei om 16:30. 9 mei is Hemelvaart\, vandaar da
 t wij de vlag een dagje eerder hijsen zodat het ook op 9 mei voor het Provi
 nciehuis hangt.  9 mei is een dag om stil te staan bij het feit dat de Euro
 pese Unie ooit is opgericht om de vrede in Europa te bewaren\, en om alle b
 urgers in Europa een goede levensstandaard te garanderen. Sinds 19
LOCATION:Markt 11\, 6811 CG\, Arnhem
URL:https://voltnederland.org/agenda/eu-vlag-hijsen-voor-het-provinciehuis-
 in-arnhem
END:VEVENT
END:VCALENDAR
